BEGIN:VCALENDAR
VERSION:2.0
PRODID:-//Berghem.nl - ECPv6.15.20//NONSGML v1.0//EN
CALSCALE:GREGORIAN
METHOD:PUBLISH
X-WR-CALNAME:Berghem.nl
X-ORIGINAL-URL:https://www.berghem.nl
X-WR-CALDESC:Evenementen voor Berghem.nl
REFRESH-INTERVAL;VALUE=DURATION:PT1H
X-Robots-Tag:noindex
X-PUBLISHED-TTL:PT1H
BEGIN:VTIMEZONE
TZID:Europe/Amsterdam
BEGIN:DAYLIGHT
TZOFFSETFROM:+0100
TZOFFSETTO:+0200
TZNAME:CEST
DTSTART:20240331T010000
END:DAYLIGHT
BEGIN:STANDARD
TZOFFSETFROM:+0200
TZOFFSETTO:+0100
TZNAME:CET
DTSTART:20241027T010000
END:STANDARD
BEGIN:DAYLIGHT
TZOFFSETFROM:+0100
TZOFFSETTO:+0200
TZNAME:CEST
DTSTART:20250330T010000
END:DAYLIGHT
BEGIN:STANDARD
TZOFFSETFROM:+0200
TZOFFSETTO:+0100
TZNAME:CET
DTSTART:20251026T010000
END:STANDARD
BEGIN:DAYLIGHT
TZOFFSETFROM:+0100
TZOFFSETTO:+0200
TZNAME:CEST
DTSTART:20260329T010000
END:DAYLIGHT
BEGIN:STANDARD
TZOFFSETFROM:+0200
TZOFFSETTO:+0100
TZNAME:CET
DTSTART:20261025T010000
END:STANDARD
BEGIN:DAYLIGHT
TZOFFSETFROM:+0100
TZOFFSETTO:+0200
TZNAME:CEST
DTSTART:20270328T010000
END:DAYLIGHT
BEGIN:STANDARD
TZOFFSETFROM:+0200
TZOFFSETTO:+0100
TZNAME:CET
DTSTART:20271031T010000
END:STANDARD
END:VTIMEZONE
BEGIN:VEVENT
DTSTART;TZID=Europe/Amsterdam:20260109T190000
DTEND;TZID=Europe/Amsterdam:20260109T190000
DTSTAMP:20260423T220022
CREATED:20251211T084153Z
LAST-MODIFIED:20260109T104840Z
UID:50528-1767985200-1767985200@www.berghem.nl
SUMMARY:Uitgesteld: Gerard Broers Bokaal Berghem Sport
DESCRIPTION:Gerard-Broers-bokaal uitgesteld tot nader bericht! \nVoor leden van Berghem Sport
URL:https://www.berghem.nl/index.php/events/gerard-broers-bokaal-berghem-sport/
LOCATION:Sportpark de Koppelsteeg\, Osseweg
END:VEVENT
BEGIN:VEVENT
DTSTART;TZID=Europe/Amsterdam:20260108T193000
DTEND;TZID=Europe/Amsterdam:20260108T233000
DTSTAMP:20260423T220022
CREATED:20251201T132431Z
LAST-MODIFIED:20251213T181602Z
UID:50340-1767900600-1767915000@www.berghem.nl
SUMMARY:Nieuwjaarsreceptie Dorpsraad Berghem
DESCRIPTION:
URL:https://www.berghem.nl/index.php/events/nieuwjaarsreceptie-dorpsraad-berghem/
LOCATION:Berchplaets\, Sportstraat 3\, Berghem\, Netherlands
END:VEVENT
BEGIN:VEVENT
DTSTART;TZID=Europe/Amsterdam:20260106T200000
DTEND;TZID=Europe/Amsterdam:20260106T200000
DTSTAMP:20260423T220022
CREATED:20251129T100658Z
LAST-MODIFIED:20251224T100808Z
UID:50257-1767729600-1767729600@www.berghem.nl
SUMMARY:Berghem Wijzer
DESCRIPTION:Ga mee op reis! In De Berchplaets in Berghem is dinsdag 6 januari 2026 een lezing van Jan Bakker over zijn pelgrimstochten naar Santiago de Compostella. Aan de hand van foto’s vertelt hij over zijn belevenissen onderweg. Deze avond is in het kader van Berghem Wijzer. \n  \nJan Bakker is 73 en geboren en getogen in Ravenstein. In 2019 liep hij de beroemde Camino Francés en in 2021 de ruigere Camino del Norte. Beide routes brachten hem naar het eeuwenoude pelgrimsoord Santiago de Compostella\, waar de fysieke uitdaging samensmolt met een diepe spirituele ervaring. De twee tochten hebben zijn leven verrijkt en veranderd. \n  \nTijdens de avond in Berghem deelt hij zijn mooiste momenten\, onverwachte ontmoetingen en lessen voor het leven. Een inspirerende bijeenkomst voor iedereen die houdt van reizen\, verhalen of gewoon nieuwsgierig is naar het pad van de pelgrim. \n 
URL:https://www.berghem.nl/index.php/events/berghem-wijzer/
LOCATION:Berchplaets\, Sportstraat 3\, Berghem\, Netherlands
END:VEVENT
BEGIN:VEVENT
DTSTART;TZID=Europe/Amsterdam:20260106T084500
DTEND;TZID=Europe/Amsterdam:20260106T100000
DTSTAMP:20260423T220022
CREATED:20250906T105859Z
LAST-MODIFIED:20251224T100627Z
UID:42007-1767689100-1767693600@www.berghem.nl
SUMMARY:Aanmeldochtend de Fonkeling
DESCRIPTION:
URL:https://www.berghem.nl/index.php/events/aanmeld-ochtend-de-fonkeling/
LOCATION:Basischool de Fonkeling\, Knolgroenveld 1\, Berghem\, 5351 LB
END:VEVENT
BEGIN:VEVENT
DTSTART;TZID=Europe/Amsterdam:20251231T140000
DTEND;TZID=Europe/Amsterdam:20251231T190000
DTSTAMP:20260423T220022
CREATED:20251213T175608Z
LAST-MODIFIED:20251213T175608Z
UID:50547-1767189600-1767207600@www.berghem.nl
SUMMARY:Carbidschieten
DESCRIPTION:
URL:https://www.berghem.nl/index.php/events/carbidschieten/
LOCATION:Boerderij Van Schaijk\, Burgemeester van Erpstraat 80\, Berghem
END:VEVENT
BEGIN:VEVENT
DTSTART;VALUE=DATE:20251228
DTEND;VALUE=DATE:20251229
DTSTAMP:20260423T220022
CREATED:20251122T114300Z
LAST-MODIFIED:20251122T114300Z
UID:49237-1766880000-1766966399@www.berghem.nl
SUMMARY:Bergse Kwis
DESCRIPTION:
URL:https://www.berghem.nl/index.php/events/bergse-kwis/
END:VEVENT
BEGIN:VEVENT
DTSTART;VALUE=DATE:20251227
DTEND;VALUE=DATE:20251229
DTSTAMP:20260423T220022
CREATED:20251116T203920Z
LAST-MODIFIED:20251116T203920Z
UID:47979-1766793600-1766966399@www.berghem.nl
SUMMARY:Biljarttoernooi Willy van Gaal bokaal
DESCRIPTION:
URL:https://www.berghem.nl/index.php/events/biljarttoernooi-willy-van-gaal-bokaal/
LOCATION:De Merx
END:VEVENT
BEGIN:VEVENT
DTSTART;TZID=Europe/Amsterdam:20251226T093000
DTEND;TZID=Europe/Amsterdam:20251226T103000
DTSTAMP:20260423T220022
CREATED:20251224T162624Z
LAST-MODIFIED:20251224T162624Z
UID:50732-1766741400-1766745000@www.berghem.nl
SUMMARY:Heilige Mis met Ensemble
DESCRIPTION:Agenda Parochie St. Willibrordus
URL:https://www.berghem.nl/index.php/events/heilige-mis-met-ensemble/
LOCATION:Sint Willibrorduskerk Berghem\, Sint Wil­li­brordus­straat 40\, Berghem
END:VEVENT
BEGIN:VEVENT
DTSTART;TZID=Europe/Amsterdam:20251225T093000
DTEND;TZID=Europe/Amsterdam:20251225T103000
DTSTAMP:20260423T220022
CREATED:20251224T162054Z
LAST-MODIFIED:20251224T162352Z
UID:50726-1766655000-1766658600@www.berghem.nl
SUMMARY:Heilige Mis met parochiekoor
DESCRIPTION:Agenda Parochie St. Willibrordus
URL:https://www.berghem.nl/index.php/events/mis-met-parochiekoor/
LOCATION:Sint Willibrorduskerk Berghem\, Sint Wil­li­brordus­straat 40\, Berghem
END:VEVENT
BEGIN:VEVENT
DTSTART;TZID=Europe/Amsterdam:20251224T220000
DTEND;TZID=Europe/Amsterdam:20251224T230000
DTSTAMP:20260423T220022
CREATED:20251224T162443Z
LAST-MODIFIED:20251224T162443Z
UID:50729-1766613600-1766617200@www.berghem.nl
SUMMARY:Kerstnachtmis met parochiekoor
DESCRIPTION:Agenda Parochie St. Willibrordus
URL:https://www.berghem.nl/index.php/events/kerstnachtmis-met-parochiekoor/
LOCATION:Sint Willibrorduskerk Berghem\, Sint Wil­li­brordus­straat 40\, Berghem
END:VEVENT
BEGIN:VEVENT
DTSTART;TZID=Europe/Amsterdam:20251224T190000
DTEND;TZID=Europe/Amsterdam:20251224T190000
DTSTAMP:20260423T220022
CREATED:20251224T144709Z
LAST-MODIFIED:20251224T144952Z
UID:50721-1766602800-1766602800@www.berghem.nl
SUMMARY:Start Radio Zwetsbal
DESCRIPTION:Vanavond om 19u start Radio Zwetsbal.\nLuister via
URL:https://www.berghem.nl/index.php/events/start-radio-zwetsbal/
END:VEVENT
BEGIN:VEVENT
DTSTART;TZID=Europe/Amsterdam:20251220T200000
DTEND;TZID=Europe/Amsterdam:20251220T200000
DTSTAMP:20260423T220022
CREATED:20251217T151843Z
LAST-MODIFIED:20251217T152019Z
UID:50643-1766260800-1766260800@www.berghem.nl
SUMMARY:Dansavond The Rocking Sixties
DESCRIPTION:
URL:https://www.berghem.nl/index.php/events/dansavond-the-rocking-sixties/
LOCATION:Berchplaets\, Sportstraat 3\, Berghem\, Netherlands
END:VEVENT
BEGIN:VEVENT
DTSTART;TZID=Europe/Amsterdam:20251220T170000
DTEND;TZID=Europe/Amsterdam:20251220T210000
DTSTAMP:20260423T220022
CREATED:20251203T163224Z
LAST-MODIFIED:20251213T192925Z
UID:50346-1766250000-1766264400@www.berghem.nl
SUMMARY:Kerst in Hoessenbosch
DESCRIPTION:Kerst in Hoessenbosch
URL:https://www.berghem.nl/index.php/events/kerst-in-hoessenbosch/
LOCATION:Openluchttheater Hoessenbosch\, Hoessenboschstraat 51\, Berghem\, 5351 PB\, Nederland
END:VEVENT
BEGIN:VEVENT
DTSTART;TZID=Europe/Amsterdam:20251220T140000
DTEND;TZID=Europe/Amsterdam:20251220T160000
DTSTAMP:20260423T220022
CREATED:20251217T091243Z
LAST-MODIFIED:20251217T091243Z
UID:50621-1766239200-1766246400@www.berghem.nl
SUMMARY:Verkoop Kerststukjes Wilberthof
DESCRIPTION:
URL:https://www.berghem.nl/index.php/events/verkoop-kerststukjes-wilberthof/
LOCATION:Wilberthof\, Molenweg 4\, Berghem
END:VEVENT
BEGIN:VEVENT
DTSTART;TZID=Europe/Amsterdam:20251219T203000
DTEND;TZID=Europe/Amsterdam:20251219T203000
DTSTAMP:20260423T220022
CREATED:20251205T133814Z
LAST-MODIFIED:20251205T133822Z
UID:50361-1766176200-1766176200@www.berghem.nl
SUMMARY:Foute Kersttruien party!
DESCRIPTION:Trek je foutste kersttrui uit de kast\, want op 19 december maken we er weer een knallend begin van de feestdagen van tijdens de Foute Kersttruien party! ✨ Glitters\, lampjes\, slingers… hoe fouter\, hoe beter!\n→ Vrijdag 19 december\n→ Gratis entree\n→ In het café bij de Merx\n→ DJ Sonny draait de hele avond\n→ Start: 20:30 uur
URL:https://www.berghem.nl/index.php/events/foute-kersttruien-party/
LOCATION:De Merx
END:VEVENT
BEGIN:VEVENT
DTSTART;TZID=Europe/Amsterdam:20251217T093000
DTEND;TZID=Europe/Amsterdam:20251217T113000
DTSTAMP:20260423T220022
CREATED:20251201T111206Z
LAST-MODIFIED:20251201T111445Z
UID:50313-1765963800-1765971000@www.berghem.nl
SUMMARY:Repair Café
DESCRIPTION:Elke derde woensdag van de maand\, behalve in augustus\nSpullen afgeven kan van 9:30 – 10:30 uur\, ophalen liefst vóór 11:30 uur
URL:https://www.berghem.nl/index.php/events/repair-cafe/
LOCATION:Berchplaets\, Sportstraat 3\, Berghem\, Netherlands
END:VEVENT
BEGIN:VEVENT
DTSTART;TZID=Europe/Amsterdam:20251214T150000
DTEND;TZID=Europe/Amsterdam:20251214T200000
DTSTAMP:20260423T220022
CREATED:20251116T202730Z
LAST-MODIFIED:20251214T140021Z
UID:47968-1765724400-1765742400@www.berghem.nl
SUMMARY:Radio Zwetsbal draait warm!
DESCRIPTION:
URL:https://www.berghem.nl/index.php/events/radio-zwetsbal-draait-warm/
LOCATION:De Merx
END:VEVENT
BEGIN:VEVENT
DTSTART;TZID=Europe/Amsterdam:20251214T100000
DTEND;TZID=Europe/Amsterdam:20251214T123000
DTSTAMP:20260423T220022
CREATED:20251208T080046Z
LAST-MODIFIED:20251208T080201Z
UID:50370-1765706400-1765715400@www.berghem.nl
SUMMARY:Kerst op de Kinderboederij
DESCRIPTION:
URL:https://www.berghem.nl/index.php/events/kerst-op-de-kinderboederij/
LOCATION:Kinderboerderij De Beestenbergh\, Kloosterlaan 34\, Berghem
END:VEVENT
BEGIN:VEVENT
DTSTART;TZID=Europe/Amsterdam:20251212T200000
DTEND;TZID=Europe/Amsterdam:20251212T200000
DTSTAMP:20260423T220022
CREATED:20251124T154310Z
LAST-MODIFIED:20251210T120413Z
UID:49771-1765569600-1765569600@www.berghem.nl
SUMMARY:RvO Prinsheerlijk verkiezing
DESCRIPTION:
URL:https://www.berghem.nl/index.php/events/rvo-prinsheerlijk-verkiezing/
LOCATION:De Merx
END:VEVENT
BEGIN:VEVENT
DTSTART;TZID=Europe/Amsterdam:20251207T190000
DTEND;TZID=Europe/Amsterdam:20251207T210000
DTSTAMP:20260423T220022
CREATED:20251122T093726Z
LAST-MODIFIED:20251126T231649Z
UID:49188-1765134000-1765141200@www.berghem.nl
SUMMARY:Ontsteking Berghse Boom van Verbinding
DESCRIPTION:Op zondag 7 december 2025 van 19:00 tot 21:00 uur laten we de Boom van Verbinding in Berghem stralen!\nIedereen is welkom om dit warme\, sfeervolle moment mee te beleven. Breng een wens of ster mee en hang deze in de boom – voor een ander\, voor Berghem of voor jezelf. Samen vieren we wat ons dorp verbindt en brengen we licht in de donkere dagen.\nRondom de boom is van alles te doen:\n•	Kerstmarkt\n•	Foto’s met de Kerstman\n•	Muziek en (creatieve) activiteiten\n•	Gratis kopje warme chocolademelk tijdens het ontsteken van de lichtjes\nMis dit sfeervolle moment niet en kom gezellig langs! ✨
URL:https://www.berghem.nl/index.php/events/ontsteking-berghse-boom-van-verbinding/
LOCATION:Berchplaets\, Sportstraat 3\, Berghem\, Netherlands
END:VEVENT
BEGIN:VEVENT
DTSTART;TZID=Europe/Amsterdam:20251207T140000
DTEND;TZID=Europe/Amsterdam:20251207T173000
DTSTAMP:20260423T220022
CREATED:20251129T100251Z
LAST-MODIFIED:20251205T165805Z
UID:50255-1765116000-1765128600@www.berghem.nl
SUMMARY:Berghem Ontmoet
DESCRIPTION:
URL:https://www.berghem.nl/index.php/events/berghem-ontmoet-2/
LOCATION:Berchplaets\, Sportstraat 3\, Berghem\, Netherlands
END:VEVENT
END:VCALENDAR