BEGIN:VCALENDAR
VERSION:2.0
PRODID:-//Berghem.nl - ECPv6.15.20//NONSGML v1.0//EN
CALSCALE:GREGORIAN
METHOD:PUBLISH
X-ORIGINAL-URL:https://www.berghem.nl
X-WR-CALDESC:Evenementen voor Berghem.nl
REFRESH-INTERVAL;VALUE=DURATION:PT1H
X-Robots-Tag:noindex
X-PUBLISHED-TTL:PT1H
BEGIN:VTIMEZONE
TZID:Europe/Amsterdam
BEGIN:DAYLIGHT
TZOFFSETFROM:+0100
TZOFFSETTO:+0200
TZNAME:CEST
DTSTART:20250330T010000
END:DAYLIGHT
BEGIN:STANDARD
TZOFFSETFROM:+0200
TZOFFSETTO:+0100
TZNAME:CET
DTSTART:20251026T010000
END:STANDARD
BEGIN:DAYLIGHT
TZOFFSETFROM:+0100
TZOFFSETTO:+0200
TZNAME:CEST
DTSTART:20260329T010000
END:DAYLIGHT
BEGIN:STANDARD
TZOFFSETFROM:+0200
TZOFFSETTO:+0100
TZNAME:CET
DTSTART:20261025T010000
END:STANDARD
BEGIN:DAYLIGHT
TZOFFSETFROM:+0100
TZOFFSETTO:+0200
TZNAME:CEST
DTSTART:20270328T010000
END:DAYLIGHT
BEGIN:STANDARD
TZOFFSETFROM:+0200
TZOFFSETTO:+0100
TZNAME:CET
DTSTART:20271031T010000
END:STANDARD
END:VTIMEZONE
BEGIN:VEVENT
DTSTART;VALUE=DATE:20260523
DTEND;VALUE=DATE:20260525
DTSTAMP:20260423T133100
CREATED:20251213T191231Z
LAST-MODIFIED:20251213T191231Z
UID:50558-1779494400-1779667199@www.berghem.nl
SUMMARY:Bourgondisch Berghem
DESCRIPTION:
URL:https://www.berghem.nl/index.php/events/bourgondisch-berghem/
END:VEVENT
BEGIN:VEVENT
DTSTART;TZID=Europe/Amsterdam:20260526T180000
DTEND;TZID=Europe/Amsterdam:20260529T180000
DTSTAMP:20260423T133100
CREATED:20260305T211354Z
LAST-MODIFIED:20260406T125436Z
UID:51275-1779818400-1780077600@www.berghem.nl
SUMMARY:Avondvierdaagse Berghem
DESCRIPTION:
URL:https://www.berghem.nl/index.php/events/avondvierdaagse-berghem/
LOCATION:Mr. Gielenplein
END:VEVENT
BEGIN:VEVENT
DTSTART;TZID=Europe/Amsterdam:20260531T154500
DTEND;TZID=Europe/Amsterdam:20260531T154500
DTSTAMP:20260423T133100
CREATED:20260115T151227Z
LAST-MODIFIED:20260218T210418Z
UID:50868-1780242300-1780242300@www.berghem.nl
SUMMARY:Kindervoorstelling Jeff en Matt
DESCRIPTION:Paniek in de Fabriek\nJeff & Matt zijn twee enthousiaste fabrieksmedewerkers. De tandwielen draaien\, de lopende band loopt en het groene lampje brandt – alles lijkt perfect te gaan…\nTot dat de machine stil valt…. Wat nu? Er is nog een grote bestelling.  Samen met de kinderen proberen Jeff & Matt de machine weer aan de praat te krijgen. Maar dat blijkt nog een hele uitdaging…\n Lukt het op tijd om de machine te repareren?  Of blijft de fabriek voor altijd stil?\nEen komische\, interactieve en magische voorstelling vol spanning. Mis het niet! Bestel nu je tickets voor de voorstelling bij jou in de buurt. \nDe voorstelling is voor kinderen van 4 tot 10 jaar… én voor alle papa’s\, mama’s\, opa’s en oma’s die stiekem ook van snoep houden! Je grote broer of zus mag natuurlijk mee. \n\nhttps://pleziervoorkinderen.nl/jeff-matt-tour/
URL:https://www.berghem.nl/index.php/events/kindervoorstelling-jeff-en-matt/
LOCATION:Berchplaets\, Sportstraat 3\, Berghem\, Netherlands
END:VEVENT
BEGIN:VEVENT
DTSTART;TZID=Europe/Amsterdam:20260617T093000
DTEND;TZID=Europe/Amsterdam:20260617T113000
DTSTAMP:20260423T133100
CREATED:20251201T112031Z
LAST-MODIFIED:20251201T112347Z
UID:50325-1781688600-1781695800@www.berghem.nl
SUMMARY:Repair Café
DESCRIPTION:Elke derde woensdag van de maand\, behalve in augustus\nSpullen afgeven kan van 9:30 – 10:30 uur\, ophalen liefst vóór 11:30 uur
URL:https://www.berghem.nl/index.php/events/repair-cafe-7/
LOCATION:Berchplaets\, Sportstraat 3\, Berghem\, Netherlands
END:VEVENT
BEGIN:VEVENT
DTSTART;VALUE=DATE:20260619
DTEND;VALUE=DATE:20260622
DTSTAMP:20260423T133100
CREATED:20260326T073215Z
LAST-MODIFIED:20260326T073215Z
UID:51292-1781827200-1782086399@www.berghem.nl
SUMMARY:Circus Harlekino
DESCRIPTION:
URL:https://www.berghem.nl/index.php/events/circus-harlekino/
LOCATION:Mr. Gielenplein
END:VEVENT
BEGIN:VEVENT
DTSTART;TZID=Europe/Amsterdam:20260619T180000
DTEND;TZID=Europe/Amsterdam:20260619T180000
DTSTAMP:20260423T133100
CREATED:20260408T125410Z
LAST-MODIFIED:20260408T125410Z
UID:51348-1781892000-1781892000@www.berghem.nl
SUMMARY:Gala Molenveld
DESCRIPTION:
URL:https://www.berghem.nl/index.php/events/gala-molenveld/
LOCATION:Mr. Gielenplein
END:VEVENT
BEGIN:VEVENT
DTSTART;TZID=Europe/Amsterdam:20260621T100000
DTEND;TZID=Europe/Amsterdam:20260621T170000
DTSTAMP:20260423T133100
CREATED:20260305T203732Z
LAST-MODIFIED:20260305T203732Z
UID:51273-1782036000-1782061200@www.berghem.nl
SUMMARY:Open tuinendag Groei en Bloei Berghem
DESCRIPTION:
URL:https://www.berghem.nl/index.php/events/open-tuinendag-groei-en-bloei-berghem/
END:VEVENT
BEGIN:VEVENT
DTSTART;TZID=Europe/Amsterdam:20260624T200000
DTEND;TZID=Europe/Amsterdam:20260624T200000
DTSTAMP:20260423T133100
CREATED:20260122T094152Z
LAST-MODIFIED:20260122T094152Z
UID:50905-1782331200-1782331200@www.berghem.nl
SUMMARY:Openbare vergadering Dorpsraad
DESCRIPTION:www.dorpsraadberghem.nl
URL:https://www.berghem.nl/index.php/events/openbare-vergadering-dorpsraad-2/
LOCATION:Berchplaets\, Sportstraat 3\, Berghem\, Netherlands
END:VEVENT
BEGIN:VEVENT
DTSTART;TZID=Europe/Amsterdam:20260627T090000
DTEND;TZID=Europe/Amsterdam:20260627T170000
DTSTAMP:20260423T133100
CREATED:20251213T223459Z
LAST-MODIFIED:20251213T223459Z
UID:50574-1782550800-1782579600@www.berghem.nl
SUMMARY:KPJ Jeugdzeskamp
DESCRIPTION:Handig feitje\, het weekend van de 4e zondag van juni is het altijd zeskamp!
URL:https://www.berghem.nl/index.php/events/kpj-jeugdzeskamp/
LOCATION:Boerderij Van Schaijk\, Burgemeester van Erpstraat 80\, Berghem
END:VEVENT
BEGIN:VEVENT
DTSTART;TZID=Europe/Amsterdam:20260628T090000
DTEND;TZID=Europe/Amsterdam:20260628T170000
DTSTAMP:20260423T133100
CREATED:20251213T223656Z
LAST-MODIFIED:20251213T223656Z
UID:50576-1782637200-1782666000@www.berghem.nl
SUMMARY:KPJ Zeskamp
DESCRIPTION:Handig feitje\, het weekend van de 4e zondag van juni is het altijd zeskamp!
URL:https://www.berghem.nl/index.php/events/kpj-zeskamp/
LOCATION:Boerderij Van Schaijk\, Burgemeester van Erpstraat 80\, Berghem
END:VEVENT
BEGIN:VEVENT
DTSTART;TZID=Europe/Amsterdam:20260715T093000
DTEND;TZID=Europe/Amsterdam:20260715T113000
DTSTAMP:20260423T133100
CREATED:20251201T112502Z
LAST-MODIFIED:20251201T112502Z
UID:50327-1784107800-1784115000@www.berghem.nl
SUMMARY:Repair Café
DESCRIPTION:Elke derde woensdag van de maand\, behalve in augustus\nSpullen afgeven kan van 9:30 – 10:30 uur\, ophalen liefst vóór 11:30 uur
URL:https://www.berghem.nl/index.php/events/repair-cafe-8/
LOCATION:Berchplaets\, Sportstraat 3\, Berghem\, Netherlands
END:VEVENT
BEGIN:VEVENT
DTSTART;VALUE=DATE:20260807
DTEND;VALUE=DATE:20260826
DTSTAMP:20260423T133100
CREATED:20260414T070034Z
LAST-MODIFIED:20260414T070034Z
UID:51352-1786060800-1787702399@www.berghem.nl
SUMMARY:Bevolkingsonderzoek borstkanker
DESCRIPTION:
URL:https://www.berghem.nl/index.php/events/bevolkingsonderzoek-borstkanker/
LOCATION:Mr. Gielenplein
END:VEVENT
BEGIN:VEVENT
DTSTART;VALUE=DATE:20260817
DTEND;VALUE=DATE:20260822
DTSTAMP:20260423T133100
CREATED:20260406T125605Z
LAST-MODIFIED:20260406T125605Z
UID:51342-1786924800-1787356799@www.berghem.nl
SUMMARY:Kindervakantieweek Berghem
DESCRIPTION:
URL:https://www.berghem.nl/index.php/events/kindervakantieweek-berghem/
LOCATION:Parkeerplaats Hoessenbosch\, Hoessenboschlaan 51\, Berghem\, 5351PB\, Netherlands
END:VEVENT
BEGIN:VEVENT
DTSTART;VALUE=DATE:20260904
DTEND;VALUE=DATE:20260906
DTSTAMP:20260423T133100
CREATED:20251122T113742Z
LAST-MODIFIED:20251122T113742Z
UID:49234-1788480000-1788652799@www.berghem.nl
SUMMARY:Hoessenbosch-festival
DESCRIPTION:
URL:https://www.berghem.nl/index.php/events/hoessenbosch-festival/
LOCATION:Zwembadlocatie (bij N329)\, Osseweg\, Berghem\, Netherlands
END:VEVENT
BEGIN:VEVENT
DTSTART;TZID=Europe/Amsterdam:20260916T093000
DTEND;TZID=Europe/Amsterdam:20260916T113000
DTSTAMP:20260423T133100
CREATED:20251201T112556Z
LAST-MODIFIED:20251201T112556Z
UID:50329-1789551000-1789558200@www.berghem.nl
SUMMARY:Repair café
DESCRIPTION:Elke derde woensdag van de maand\, behalve in augustus\nSpullen afgeven kan van 9:30 – 10:30 uur\, ophalen liefst vóór 11:30 uur
URL:https://www.berghem.nl/index.php/events/repair-cafe-9/
LOCATION:Berchplaets\, Sportstraat 3\, Berghem\, Netherlands
END:VEVENT
BEGIN:VEVENT
DTSTART;VALUE=DATE:20260920
DTEND;VALUE=DATE:20260921
DTSTAMP:20260423T133100
CREATED:20251122T104423Z
LAST-MODIFIED:20260210T225413Z
UID:49221-1789862400-1789948799@www.berghem.nl
SUMMARY:Berghem Bruist i.s.m. KPJ Berghem: 1e Bèrgse zeepkistenrace
DESCRIPTION:Berghem Bruist zet jubileumeditie in de spotlights\nBerghem Bruist viert 25-jarig bestaan met groots jubileumfeest\nOp zondag 20 september staat Berghem volledig in de spotlights tijdens de jubileumeditie van\nBerghem Bruist. Het evenement bestaat 25 jaar en wordt groots gevierd met als thema: Berghem in\nde spotlights! De locatie is dit jaar de pastorietuin. Rondom de kerk: de plek waar 25 jaar geleden de\nallereerste editie plaatsvond.\nTijdens Berghem Bruist presenteren verenigingen\, stichtingen en ondernemers uit Berghem zich aan\nhet publiek. Bezoekers maken kennis met alles wat het dorp te bieden heeft. Sport\, cultuur\, creativiteit\nen ontmoeting komen samen in een feestelijke sfeer voor jong en oud. Of je nu wilt meedoen\, kijken\,\naanmoedigen of gewoon genieten van de gezellige drukte: er is voor iedereen iets te beleven.\nD’n urste Bergse Zeepkisterace\nOok deze editie belooft weer een ware happening te worden. Een van de absolute hoogtepunten van\nde jubileumeditie van Berghem Bruist is d’n urste Bergse zeepkistenrace. In samenwerking met KPJ\nBerghem wordt de pastorietuin omgetoverd tot een spectaculair raceparcours.\nCreativiteit\, snelheid en hilariteit komen samen in een spannende race. Teams kunnen deelnemen in\n2 categorieën: groep 8 tot en met 17 jaar en 18+. Deelnemers krijgen vooraf een bouwpakket zeepkist\nvan de organisatie. Hoe hij er precies uit gaat zien dat bepalen teams zelf. Er is ook een originaliteit\nprijs te winnen.\nDe race belooft niet alleen spanning voor de deelnemers\, maar zeker ook volop vermaak voor het\npubliek. Jong en oud kan genieten van originele ontwerpen\, fanatieke teams en een gezonde dosis\ndorpscompetitie. De inschrijving voor de zeepkistenrace start op 11 februari. Er is plek voor ongeveer\n40 teams\, wees er dus op tijd bij! Houd de kanalen van Berghem Bruist in de gaten voor meer\ninformatie.\nVerenigingen\, stichtingen en ondernemers welkom\nVerenigingen\, stichtingen en ondernemers uit Berghem die zich op 20 september willen presenteren\,\nzijn van harte welkom om deel te nemen. Deelname is een mooie kans om zichtbaar te zijn voor het\ndorp\, nieuwe leden te ontmoeten en samen het jubileum te vieren.\nAanmelden kan via deelnemers@berghembruist.nl. Meer informatie is te vinden op\nwww.berghembruist.nl.\nNieuwsgierig geworden? Zet 20 september alvast in de agenda en beleef samen de jubileumeditie\nvan Berghem Bruist: Berghem in the spotlights!
URL:https://www.berghem.nl/index.php/events/berghem-bruist-2026/
END:VEVENT
BEGIN:VEVENT
DTSTART;VALUE=DATE:20260926
DTEND;VALUE=DATE:20260928
DTSTAMP:20260423T133100
CREATED:20260416T074929Z
LAST-MODIFIED:20260416T074929Z
UID:51373-1790380800-1790553599@www.berghem.nl
SUMMARY:Smokersfestival
DESCRIPTION:
URL:https://www.berghem.nl/index.php/events/smokersfestival/
LOCATION:Food Loods Oss\, Angelenweg 77A\, Oss\, 5349 TA\, Netherlands
END:VEVENT
BEGIN:VEVENT
DTSTART;TZID=Europe/Amsterdam:20261021T093000
DTEND;TZID=Europe/Amsterdam:20261021T113000
DTSTAMP:20260423T133100
CREATED:20251201T112701Z
LAST-MODIFIED:20251201T112701Z
UID:50331-1792575000-1792582200@www.berghem.nl
SUMMARY:Repair café
DESCRIPTION:Elke derde woensdag van de maand\, behalve in augustus\nSpullen afgeven kan van 9:30 – 10:30 uur\, ophalen liefst vóór 11:30 uur
URL:https://www.berghem.nl/index.php/events/repair-cafe-10/
LOCATION:Berchplaets\, Sportstraat 3\, Berghem\, Netherlands
END:VEVENT
BEGIN:VEVENT
DTSTART;VALUE=DATE:20261031
DTEND;VALUE=DATE:20261102
DTSTAMP:20260423T133100
CREATED:20251102T205641Z
LAST-MODIFIED:20251102T205641Z
UID:44960-1793408400-1793494799@www.berghem.nl
SUMMARY:Trick or Treat Berghem
DESCRIPTION:Lekker griezelen met Halloween in diverse straten van Berghem
URL:https://www.berghem.nl/index.php/events/trick-or-treat-berghem/
LOCATION:Berghem
END:VEVENT
BEGIN:VEVENT
DTSTART;TZID=Europe/Amsterdam:20261118T093000
DTEND;TZID=Europe/Amsterdam:20261118T113000
DTSTAMP:20260423T133100
CREATED:20251201T112756Z
LAST-MODIFIED:20251201T112756Z
UID:50333-1794994200-1795001400@www.berghem.nl
SUMMARY:Repair café
DESCRIPTION:Elke derde woensdag van de maand\, behalve in augustus\nSpullen afgeven kan van 9:30 – 10:30 uur\, ophalen liefst vóór 11:30 uur
URL:https://www.berghem.nl/index.php/events/repair-cafe-11/
LOCATION:Berchplaets\, Sportstraat 3\, Berghem\, Netherlands
END:VEVENT
BEGIN:VEVENT
DTSTART;TZID=Europe/Amsterdam:20261118T200000
DTEND;TZID=Europe/Amsterdam:20261118T200000
DTSTAMP:20260423T133100
CREATED:20260122T094235Z
LAST-MODIFIED:20260122T094235Z
UID:50904-1795032000-1795032000@www.berghem.nl
SUMMARY:Openbare vergadering Dorpsraad
DESCRIPTION:www.dorpsraadberghem.nl
URL:https://www.berghem.nl/index.php/events/openbare-vergadering-dorpsraad-3/
LOCATION:Berchplaets\, Sportstraat 3\, Berghem\, Netherlands
END:VEVENT
BEGIN:VEVENT
DTSTART;TZID=Europe/Amsterdam:20261216T093000
DTEND;TZID=Europe/Amsterdam:20261216T113000
DTSTAMP:20260423T133100
CREATED:20251201T112859Z
LAST-MODIFIED:20251201T112859Z
UID:50335-1797413400-1797420600@www.berghem.nl
SUMMARY:Repair café
DESCRIPTION:Elke derde woensdag van de maand\, behalve in augustus\nSpullen afgeven kan van 9:30 – 10:30 uur\, ophalen liefst vóór 11:30 uur
URL:https://www.berghem.nl/index.php/events/repair-cafe-12/
LOCATION:Berchplaets\, Sportstraat 3\, Berghem\, Netherlands
END:VEVENT
END:VCALENDAR