BEGIN:VCALENDAR
VERSION:2.0
PRODID:-//Berghem.nl - ECPv6.15.20//NONSGML v1.0//EN
CALSCALE:GREGORIAN
METHOD:PUBLISH
X-WR-CALNAME:Berghem.nl
X-ORIGINAL-URL:https://www.berghem.nl
X-WR-CALDESC:Evenementen voor Berghem.nl
REFRESH-INTERVAL;VALUE=DURATION:PT1H
X-Robots-Tag:noindex
X-PUBLISHED-TTL:PT1H
BEGIN:VTIMEZONE
TZID:Europe/Amsterdam
BEGIN:DAYLIGHT
TZOFFSETFROM:+0100
TZOFFSETTO:+0200
TZNAME:CEST
DTSTART:20250330T010000
END:DAYLIGHT
BEGIN:STANDARD
TZOFFSETFROM:+0200
TZOFFSETTO:+0100
TZNAME:CET
DTSTART:20251026T010000
END:STANDARD
BEGIN:DAYLIGHT
TZOFFSETFROM:+0100
TZOFFSETTO:+0200
TZNAME:CEST
DTSTART:20260329T010000
END:DAYLIGHT
BEGIN:STANDARD
TZOFFSETFROM:+0200
TZOFFSETTO:+0100
TZNAME:CET
DTSTART:20261025T010000
END:STANDARD
BEGIN:DAYLIGHT
TZOFFSETFROM:+0100
TZOFFSETTO:+0200
TZNAME:CEST
DTSTART:20270328T010000
END:DAYLIGHT
BEGIN:STANDARD
TZOFFSETFROM:+0200
TZOFFSETTO:+0100
TZNAME:CET
DTSTART:20271031T010000
END:STANDARD
END:VTIMEZONE
BEGIN:VEVENT
DTSTART;VALUE=DATE:20260427
DTEND;VALUE=DATE:20260428
DTSTAMP:20260423T115806
CREATED:20260406T124656Z
LAST-MODIFIED:20260406T124656Z
UID:51339-1777248000-1777334399@www.berghem.nl
SUMMARY:Koningsdag
DESCRIPTION:
URL:https://www.berghem.nl/index.php/events/koningsdag/
LOCATION:Mr. Gielenplein
END:VEVENT
BEGIN:VEVENT
DTSTART;TZID=Europe/Amsterdam:20260424T193000
DTEND;TZID=Europe/Amsterdam:20260424T210000
DTSTAMP:20260423T115806
CREATED:20260416T073500Z
LAST-MODIFIED:20260416T073553Z
UID:51366-1777059000-1777064400@www.berghem.nl
SUMMARY:Avondwandeling Herperduin
DESCRIPTION:Op vrijdag 24 april 2026 organiseert IVN Oss een wandeling door Herperduin in de avonduren. Een bijzondere ervaring. De wandeltocht van 3 km duurt 1 ½ uur en begint om 19.30 uur. De start is vanaf de parkeerplaats Hoessenbosch bij Berghem. \nTegen de schemering in het bos wandelen is toch heel wat anders dan overdag. De sfeer in het bos verandert. Zijn er nog vogels te horen? Welke bloemen gaan tegen de avond open en welke sluiten zich? Welke nachtdieren worden actief?\nOp de hei en bij het ven zullen we enkele malen stil staan en luisteren naar de avond en haar geheimen. Horen we de geheimzinnige rugstreeppad?\nTrek stevige wandelschoenen aan. Er zijn geen kosten aan verbonden maar een vrijwillige bijdrage wordt op prijs gesteld.\n____________________________________________________________________________\nVoor meer info: ivnoss.natuurgidsen@gmail.com of  https://www.ivn.nl/afdeling/oss/\n______________________________________________________________________
URL:https://www.berghem.nl/index.php/events/avondwandeling-herperduin/
LOCATION:Parkeerplaats Hoessenbosch\, Hoessenboschlaan 51\, Berghem\, 5351PB\, Netherlands
END:VEVENT
BEGIN:VEVENT
DTSTART;TZID=Europe/Amsterdam:20260419T150000
DTEND;TZID=Europe/Amsterdam:20260419T150000
DTSTAMP:20260423T115806
CREATED:20260107T151222Z
LAST-MODIFIED:20260107T151222Z
UID:50777-1776610800-1776610800@www.berghem.nl
SUMMARY:Toneel Amicitia - "Puinhoop in de Kringloop"
DESCRIPTION:“Puinhoop in de Kringloop” is een komische klucht\, die garant staat voor een ontspannen en hilarische ervaring.\nTwaalf spelers en enkele figuranten brengen deze voorstelling op de planken.\nU kunt genieten van veel humor en onverwachte momenten\, met aan het einde een verrassende ontknoping!\nMeer info en het bestellen van tickets op: www.amicitiaberghem.nl
URL:https://www.berghem.nl/index.php/events/toneel-amicitia-puinhoop-in-de-kringloop-4/
LOCATION:Berchplaets\, Sportstraat 3\, Berghem\, Netherlands
END:VEVENT
BEGIN:VEVENT
DTSTART;TZID=Europe/Amsterdam:20260418T200000
DTEND;TZID=Europe/Amsterdam:20260418T200000
DTSTAMP:20260423T115806
CREATED:20260107T151118Z
LAST-MODIFIED:20260107T151118Z
UID:50775-1776542400-1776542400@www.berghem.nl
SUMMARY:Toneel Amicitia - "Puinhoop in de Kringloop"
DESCRIPTION:“Puinhoop in de Kringloop” is een komische klucht\, die garant staat voor een ontspannen en hilarische ervaring.\nTwaalf spelers en enkele figuranten brengen deze voorstelling op de planken.\nU kunt genieten van veel humor en onverwachte momenten\, met aan het einde een verrassende ontknoping!\nMeer info en het bestellen van tickets op: www.amicitiaberghem.nl
URL:https://www.berghem.nl/index.php/events/toneel-amicitia-puinhoop-in-de-kringloop-3/
LOCATION:Berchplaets\, Sportstraat 3\, Berghem\, Netherlands
END:VEVENT
BEGIN:VEVENT
DTSTART;VALUE=DATE:20260417
DTEND;VALUE=DATE:20260418
DTSTAMP:20260423T115806
CREATED:20251122T103225Z
LAST-MODIFIED:20251122T103225Z
UID:49207-1776384000-1776470399@www.berghem.nl
SUMMARY:Minirun Molenveld en Fonkeling
DESCRIPTION:
URL:https://www.berghem.nl/index.php/events/minirun-molenveld-en-fonkeling/
END:VEVENT
BEGIN:VEVENT
DTSTART;TZID=Europe/Amsterdam:20260415T093000
DTEND;TZID=Europe/Amsterdam:20260415T113000
DTSTAMP:20260423T115806
CREATED:20251201T111808Z
LAST-MODIFIED:20251201T111808Z
UID:50321-1776245400-1776252600@www.berghem.nl
SUMMARY:Repair café
DESCRIPTION:Elke derde woensdag van de maand\, behalve in augustus\nSpullen afgeven kan van 9:30 – 10:30 uur\, ophalen liefst vóór 11:30 uur
URL:https://www.berghem.nl/index.php/events/repair-cafe-5/
LOCATION:Berchplaets\, Sportstraat 3\, Berghem\, Netherlands
END:VEVENT
BEGIN:VEVENT
DTSTART;TZID=Europe/Amsterdam:20260414T200000
DTEND;TZID=Europe/Amsterdam:20260414T200000
DTSTAMP:20260423T115806
CREATED:20260122T094432Z
LAST-MODIFIED:20260122T094432Z
UID:50908-1776196800-1776196800@www.berghem.nl
SUMMARY:Welkomstbijeenkomst nieuwe inwoners Berghem
DESCRIPTION:www.dorpsraadberghem.nl
URL:https://www.berghem.nl/index.php/events/welkomstbijeenkomst/
LOCATION:Berchplaets\, Sportstraat 3\, Berghem\, Netherlands
END:VEVENT
BEGIN:VEVENT
DTSTART;TZID=Europe/Amsterdam:20260412T200000
DTEND;TZID=Europe/Amsterdam:20260412T200000
DTSTAMP:20260423T115806
CREATED:20260107T151016Z
LAST-MODIFIED:20260107T151016Z
UID:50773-1776024000-1776024000@www.berghem.nl
SUMMARY:Toneel Amicitia - "Puinhoop in de Kringloop"
DESCRIPTION:“Puinhoop in de Kringloop” is een komische klucht\, die garant staat voor een ontspannen en hilarische ervaring.\nTwaalf spelers en enkele figuranten brengen deze voorstelling op de planken.\nU kunt genieten van veel humor en onverwachte momenten\, met aan het einde een verrassende ontknoping!\nMeer info en het bestellen van tickets op: www.amicitiaberghem.nl
URL:https://www.berghem.nl/index.php/events/toneel-amicitia-puinhoop-in-de-kringloop-2/
LOCATION:Berchplaets\, Sportstraat 3\, Berghem\, Netherlands
END:VEVENT
BEGIN:VEVENT
DTSTART;TZID=Europe/Amsterdam:20260411T200000
DTEND;TZID=Europe/Amsterdam:20260411T200000
DTSTAMP:20260423T115806
CREATED:20260107T150751Z
LAST-MODIFIED:20260107T150751Z
UID:50770-1775937600-1775937600@www.berghem.nl
SUMMARY:Toneel Amicitia - "Puinhoop in de Kringloop"
DESCRIPTION:“Puinhoop in de Kringloop” is een komische klucht\, die garant staat voor een ontspannen en hilarische ervaring.\nTwaalf spelers en enkele figuranten brengen deze voorstelling op de planken.\nU kunt genieten van veel humor en onverwachte momenten\, met aan het einde een verrassende ontknoping!\nMeer info en het bestellen van tickets op: www.amicitiaberghem.nl
URL:https://www.berghem.nl/index.php/events/toneel-amicitia-puinhoop-in-de-kringloop/
LOCATION:Berchplaets\, Sportstraat 3\, Berghem\, Netherlands
END:VEVENT
BEGIN:VEVENT
DTSTART;TZID=Europe/Amsterdam:20260408T140000
DTEND;TZID=Europe/Amsterdam:20260408T140000
DTSTAMP:20260423T115806
CREATED:20260406T123914Z
LAST-MODIFIED:20260406T123914Z
UID:51334-1775656800-1775656800@www.berghem.nl
SUMMARY:Paaseieren zoeken Stichting Jeugd & Jongeren
DESCRIPTION:
URL:https://www.berghem.nl/index.php/events/paaseieren-zoeken-stichting-jeugd-jongeren/
LOCATION:Openluchttheater Hoessenbosch\, Hoessenboschstraat 51\, Berghem\, 5351 PB\, Nederland
END:VEVENT
BEGIN:VEVENT
DTSTART;VALUE=DATE:20260406
DTEND;VALUE=DATE:20260411
DTSTAMP:20260423T115806
CREATED:20260329T212340Z
LAST-MODIFIED:20260329T212408Z
UID:51301-1775433600-1775865599@www.berghem.nl
SUMMARY:Ophalen Goede Doelen Week collecte 2026
DESCRIPTION:Ophalen van 6 t/m 10 april Van 6 tot en met 10 april komen vrijwilligers langs om de ingevulde enveloppen op te halen. Wanneer bewoners niet thuis zijn\, kunnen zij de envelop op een later moment inleveren in de speciale inzamelcontainers bij Jumbo of Albert Heijn te Berghem\, of digitaal doneren via de QR‑code op de brief. \n\n\n\nDoneren via QR‑code Op de donatiebrief staat een QR‑code waarmee inwoners direct digitaal kunnen doneren. De code leidt naar een veilige betaalomgeving en is een handige optie voor iedereen die liever online bijdraagt. \n\n\n\nInleveren bij speciale containers Inwoners die de envelop liever zelf inleveren\, kunnen terecht bij de speciale inzamelcontainers bij Jumbo en Albert Heijn in Berghem. Deze containers staan er tot en met 12 april en worden dagelijks geleegd.
URL:https://www.berghem.nl/index.php/events/ophalen-goede-doelen-week-collecte-2026/
END:VEVENT
BEGIN:VEVENT
DTSTART;TZID=Europe/Amsterdam:20260404T100000
DTEND;TZID=Europe/Amsterdam:20260404T170000
DTSTAMP:20260423T115806
CREATED:20260303T140248Z
LAST-MODIFIED:20260303T141634Z
UID:51232-1775296800-1775322000@www.berghem.nl
SUMMARY:Pasen op de Kinderboerderij
DESCRIPTION:Op zaterdag 4 april vieren we Pasen op de kinderboerderij. Dit is het eerste evenement van dit jaar. Kom je ook? Zowel in de ochtend als in de middag zijn er leuke activiteiten. Er kan een leuke paashanger geknutseld worden en er is een eierspeurtocht. Ook zal de Paashaas op bezoek komen. Er zullen leuke spelletjes klaarstaan en er is gratis koffie\, thee en limonade.\nOpeningstijden: 10.00 uur tot 17.00 uur \n(tussen de 12.30 uur en 13.30 uur zijn de knuffel en knutselruimte gesloten)
URL:https://www.berghem.nl/index.php/events/pasen-op-de-kinderboerderij/
LOCATION:Kinderboerderij De Beestenbergh\, Kloosterlaan 34\, Berghem
END:VEVENT
BEGIN:VEVENT
DTSTART;VALUE=DATE:20260330
DTEND;VALUE=DATE:20260404
DTSTAMP:20260423T115806
CREATED:20260329T211854Z
LAST-MODIFIED:20260329T211854Z
UID:51298-1774828800-1775260799@www.berghem.nl
SUMMARY:Goede doelenweek collecte 2026
DESCRIPTION:Huis‑aan‑huisbrieven in de eerste week van april\nIn de eerste week van april ontvangen alle huishoudens in Berghem een donatiebrief. Hierin staat uitgelegd hoe inwoners kunnen bijdragen en welke 15 goede doelen deelnemen. De organisatie vraagt inwoners om de brief goed te bewaren en in te vullen.
URL:https://www.berghem.nl/index.php/events/goede-doelenweek-collecte-2026/
END:VEVENT
BEGIN:VEVENT
DTSTART;TZID=Europe/Amsterdam:20260329T100000
DTEND;TZID=Europe/Amsterdam:20260329T100000
DTSTAMP:20260423T115806
CREATED:20251122T103053Z
LAST-MODIFIED:20260210T215018Z
UID:49205-1774778400-1774778400@www.berghem.nl
SUMMARY:Bergse Crossloop 2026
DESCRIPTION:Inschrijven via deze pagina\nBergse Crossloop 29 maart 2026
URL:https://www.berghem.nl/index.php/events/bergse-crossloop-2026/
LOCATION:Openluchttheater Hoessenbosch\, Hoessenboschstraat 51\, Berghem\, 5351 PB\, Nederland
END:VEVENT
BEGIN:VEVENT
DTSTART;TZID=Europe/Amsterdam:20260328T200000
DTEND;TZID=Europe/Amsterdam:20260328T200000
DTSTAMP:20260423T115806
CREATED:20260302T101242Z
LAST-MODIFIED:20260302T101242Z
UID:51215-1774728000-1774728000@www.berghem.nl
SUMMARY:‘DE MOUNTAINS’ ZINGEN ‘HITS VAN TOEN’ IN DE BERCHPLAETS
DESCRIPTION:Entree is € 2\,50 aan de deur (geen online kaartverkoop).
URL:https://www.berghem.nl/index.php/events/de-mountains-zingen-hits-van-toen-in-de-berchplaets/
LOCATION:Berchplaets\, Sportstraat 3\, Berghem\, Netherlands
END:VEVENT
BEGIN:VEVENT
DTSTART;TZID=Europe/Amsterdam:20260325T200000
DTEND;TZID=Europe/Amsterdam:20260325T200000
DTSTAMP:20260423T115806
CREATED:20260122T094042Z
LAST-MODIFIED:20260122T094042Z
UID:50902-1774468800-1774468800@www.berghem.nl
SUMMARY:Openbare vergadering Dorpsraad
DESCRIPTION:www.dorpsraadberghem.nl
URL:https://www.berghem.nl/index.php/events/openbare-vergadering-dorpsraad/
LOCATION:Berchplaets\, Sportstraat 3\, Berghem\, Netherlands
END:VEVENT
BEGIN:VEVENT
DTSTART;TZID=Europe/Amsterdam:20260318T093000
DTEND;TZID=Europe/Amsterdam:20260318T113000
DTSTAMP:20260423T115806
CREATED:20251201T111711Z
LAST-MODIFIED:20251201T111711Z
UID:50319-1773826200-1773833400@www.berghem.nl
SUMMARY:Repair café
DESCRIPTION:Elke derde woensdag van de maand\, behalve in augustus\nSpullen afgeven kan van 9:30 – 10:30 uur\, ophalen liefst vóór 11:30 uur
URL:https://www.berghem.nl/index.php/events/repair-cafe-4/
LOCATION:Berchplaets\, Sportstraat 3\, Berghem\, Netherlands
END:VEVENT
BEGIN:VEVENT
DTSTART;TZID=Europe/Amsterdam:20260315T130000
DTEND;TZID=Europe/Amsterdam:20260315T130000
DTSTAMP:20260423T115806
CREATED:20260303T130148Z
LAST-MODIFIED:20260303T130216Z
UID:51230-1773579600-1773579600@www.berghem.nl
SUMMARY:Korenfestival Berghem 2026
DESCRIPTION:Zondag 15 maart vindt weer het inmiddels bekende en drukbezochte Korenfestival Berghem plaats in de Berchplaets in Berghem aan de Sportstraat 3. In totaal zullen 10 (pop)koren en vocal groups een selectie uit hun repertoire laten horen èn zien op deze middag. \nHet korenfestival begint om 13.00 uur\, de zaal is geopend vanaf 12.30 uur en de entree voor bezoekers is € 2\,50 per persoon.\nDe koren worden dit jaar weer beoordeeld door een vakkundige jury op zang en performance ; hoe het koor het kijkend en luisterend het publiek kan animeren.  De jury geeft hiervoor geen punten\, het is geen wedstrijd. Dit jaar is er wederom een wedstrijdelement toegevoegd. Elk koor zingt een nummer in een andere taal als het Nederlands of Engels waaraan een juryprijs verbonden is.    \nDe koren die deelnemen zijn : Popkoor D’accord uit Oss\, Vocal Group Crescens uit Berghem\, popkoor Noiz en Popkoor Blizz uit Heesch  \,popkoor Voyss uit Erp\,   popkoor Whatever uit Maurik\, Popkoor Just Between uit Nuland\, Zangvereniging Amicitia uit Wamel\, Vocal Group Klik uit regio Oss-Eindhoven\, Vocal Group Next Level uit Oss. Het repertoire is heel divers\, van pop tot ballads\, rock en musical. Steeds meer koren laten een bijpassende choreografie zien\, een feest voor ogen en oren.  Kortom voor ieder wat wils!  \nVerdere informatie:\nMaria van der Heijden\, medeorganisator Korenfestival Berghem\,\nMobiel: 06 12193121
URL:https://www.berghem.nl/index.php/events/korenfestival-berghem-2026/
LOCATION:Berchplaets\, Sportstraat 3\, Berghem\, Netherlands
END:VEVENT
BEGIN:VEVENT
DTSTART;VALUE=DATE:20260313
DTEND;VALUE=DATE:20260314
DTSTAMP:20260423T115806
CREATED:20251124T155532Z
LAST-MODIFIED:20251124T155532Z
UID:49793-1773360000-1773446399@www.berghem.nl
SUMMARY:Halfvastenborrel
DESCRIPTION:
URL:https://www.berghem.nl/index.php/events/halfvastenborrel/
LOCATION:De Merx
END:VEVENT
BEGIN:VEVENT
DTSTART;TZID=Europe/Amsterdam:20260312T090000
DTEND;TZID=Europe/Amsterdam:20260312T120000
DTSTAMP:20260423T115806
CREATED:20260303T143754Z
LAST-MODIFIED:20260303T144048Z
UID:51246-1773306000-1773316800@www.berghem.nl
SUMMARY:Open Ochtend Basisschool Het Molenveld
DESCRIPTION:
URL:https://www.berghem.nl/index.php/events/open-ochtend-basisschool-het-molenveld/
LOCATION:Basisschool Het Molenveld\, Wilhelminasingel 78\, Berghem\, 5351 CC\, Netherlands
END:VEVENT
BEGIN:VEVENT
DTSTART;TZID=Europe/Amsterdam:20260312T084500
DTEND;TZID=Europe/Amsterdam:20260312T100000
DTSTAMP:20260423T115806
CREATED:20260303T142551Z
LAST-MODIFIED:20260303T142635Z
UID:51241-1773305100-1773309600@www.berghem.nl
SUMMARY:Open Ochtend Basisschool De Fonkeling
DESCRIPTION:
URL:https://www.berghem.nl/index.php/events/open-ochtend-basisschool-de-fonkeling/
LOCATION:Basischool de Fonkeling\, Knolgroenveld 1\, Berghem\, 5351 LB
END:VEVENT
BEGIN:VEVENT
DTSTART;TZID=Europe/Amsterdam:20260307T140000
DTEND;TZID=Europe/Amsterdam:20260307T140000
DTSTAMP:20260423T115806
CREATED:20260218T221831Z
LAST-MODIFIED:20260218T222828Z
UID:51167-1772892000-1772892000@www.berghem.nl
SUMMARY:Heel Hoessenbosch Bakt
DESCRIPTION:Hoi kleine bakkers! Kom je op zaterdag 7 maart bij ons lekker bakken? Dat zouden we superleuk vinden! Tussendoor mag je al lekker snoepen en aan het einde mag je alles wat je hebt gemaakt mee naar huis nemen. We bakken deze keer in Lente thema.\nBen je tussen de 5 en 12 jaar? Koop dan je tickets op Hoessenbosch.nl \nHeel Hoessenbosch Bakt!
URL:https://www.berghem.nl/index.php/events/bakken-in-hoessenbosch/
LOCATION:Openluchttheater Hoessenbosch\, Hoessenboschstraat 51\, Berghem\, 5351 PB\, Nederland
END:VEVENT
BEGIN:VEVENT
DTSTART;TZID=Europe/Amsterdam:20260303T200000
DTEND;TZID=Europe/Amsterdam:20260303T200000
DTSTAMP:20260423T115806
CREATED:20251129T102027Z
LAST-MODIFIED:20260218T223325Z
UID:50262-1772568000-1772568000@www.berghem.nl
SUMMARY:Berghem Wijzer
DESCRIPTION:Berghem Wijzer is een initiatief van dorpshuis De Berchplaets\, Bibliotheek Berghem\, ONS welzijn en BerghsLeven. \nDinsdag 3 maart 2026\nAanvang 20.00 uur\n€ 3\,- inclusief koffie of thee\nAanmelden via berghemwijzer@deberchplaets.nl  of aan de bar in de Berchplaets.  \nDorpshuis De Berchplaets\nSportstraat 3\n5351 BZ Berghem\nwww.deberchplaets.nl
URL:https://www.berghem.nl/index.php/events/berghem-wijzer-3/
LOCATION:Berchplaets\, Sportstraat 3\, Berghem\, Netherlands
END:VEVENT
BEGIN:VEVENT
DTSTART;TZID=Europe/Amsterdam:20260301T140000
DTEND;TZID=Europe/Amsterdam:20260301T173000
DTSTAMP:20260423T115806
CREATED:20251129T102253Z
LAST-MODIFIED:20251129T102253Z
UID:50266-1772373600-1772386200@www.berghem.nl
SUMMARY:Berghem Ontmoet
DESCRIPTION:
URL:https://www.berghem.nl/index.php/events/berghem-ontmoet-4/
LOCATION:Berchplaets\, Sportstraat 3\, Berghem\, Netherlands
END:VEVENT
BEGIN:VEVENT
DTSTART;TZID=Europe/Amsterdam:20260301T090000
DTEND;TZID=Europe/Amsterdam:20260301T150000
DTSTAMP:20260423T115806
CREATED:20260219T125620Z
LAST-MODIFIED:20260219T125620Z
UID:51186-1772355600-1772377200@www.berghem.nl
SUMMARY:Rommelmarkt in de Berchplaets
DESCRIPTION:Op deze markt kom je van alles tegen\, spulletjes uit grootmoeders tijd\, kleding en boeken etc.\, je kunt niet opnoemen wat er niet is. \nEr worden alleen tweedehandse spullen of ambachtelijke artikelen aangeboden. \nUiteraard zijn hobbyisten ook welkom met zelfgemaakte spulletjes etc. \nHet aanbod is groot van boeken\, antiek\, gereedschap\, kleding\, teveel om op te noemen\, dat moet je gewoon gezien hebben. \nDe volgende markt is :  29 maart 2026 \nDe openingstijden zijn van 9.00 uur tot 15.00 uur. \nEntree € 2.–. \nEen mooie gelegenheid om op deze datum uw overtollige huisraad ten toon te stellen en tevens te verkopen. \nVoor info bel gerust naar 06-30974367.
URL:https://www.berghem.nl/index.php/events/rommelmarkt-in-de-berchplaets/
LOCATION:Berchplaets\, Sportstraat 3\, Berghem\, Netherlands
END:VEVENT
BEGIN:VEVENT
DTSTART;TZID=Europe/Amsterdam:20260216T200000
DTEND;TZID=Europe/Amsterdam:20260216T200000
DTSTAMP:20260423T115806
CREATED:20251224T165814Z
LAST-MODIFIED:20251224T165855Z
UID:50735-1771272000-1771272000@www.berghem.nl
SUMMARY:Stuiterbal
DESCRIPTION:Stuiterbal is een energiek carnavalsfeest voor jongeren van 12 t/m 16 jaar\, dat op carnavalsmaandag 16 februari om 20:00 uur plaatsvindt. Met optredens van DJ Sam Yup hoofdact Joyliana en DJ Timo Verpoort belooft het opnieuw een knallend feest te worden vol muziek\, enthousiasme en spanning.\nVroeg boek korting kaartjes voor €10 vanaf 1 januari €11 \nhttps://deberchplaets.nl
URL:https://www.berghem.nl/index.php/events/stuiterbal/
LOCATION:Berchplaets\, Sportstraat 3\, Berghem\, Netherlands
END:VEVENT
BEGIN:VEVENT
DTSTART;TZID=Europe/Amsterdam:20260215T190000
DTEND;TZID=Europe/Amsterdam:20260215T190000
DTSTAMP:20260423T115806
CREATED:20260203T140627Z
LAST-MODIFIED:20260203T140627Z
UID:50987-1771182000-1771182000@www.berghem.nl
SUMMARY:Verlichte Optocht
DESCRIPTION:
URL:https://www.berghem.nl/index.php/events/verlichte-optocht/
END:VEVENT
BEGIN:VEVENT
DTSTART;TZID=Europe/Amsterdam:20260214T131100
DTEND;TZID=Europe/Amsterdam:20260214T211100
DTSTAMP:20260423T115806
CREATED:20251224T171224Z
LAST-MODIFIED:20260118T211439Z
UID:50738-1771074660-1771103460@www.berghem.nl
SUMMARY:Carnaval op de Singel
DESCRIPTION:
URL:https://www.berghem.nl/index.php/events/carnaval-op-de-singel/
LOCATION:Wilhelminasingel Berghem\, Wilhelminasingel\, Berghem
END:VEVENT
BEGIN:VEVENT
DTSTART;TZID=Europe/Amsterdam:20260214T130000
DTEND;TZID=Europe/Amsterdam:20260214T130000
DTSTAMP:20260423T115806
CREATED:20260203T140517Z
LAST-MODIFIED:20260203T140517Z
UID:50985-1771074000-1771074000@www.berghem.nl
SUMMARY:Jeugdoptocht Knollenrijk
DESCRIPTION:
URL:https://www.berghem.nl/index.php/events/jeugdoptocht-knollenrijk/
LOCATION:Mr. Gielenplein
END:VEVENT
BEGIN:VEVENT
DTSTART;TZID=Europe/Amsterdam:20260213T190000
DTEND;TZID=Europe/Amsterdam:20260213T190000
DTSTAMP:20260423T115806
CREATED:20260203T135809Z
LAST-MODIFIED:20260203T135809Z
UID:50981-1771009200-1771009200@www.berghem.nl
SUMMARY:Carnavalsmis 2.0
DESCRIPTION:
URL:https://www.berghem.nl/index.php/events/carnavalsmis-2-0/
LOCATION:Berchplaets\, Sportstraat 3\, Berghem\, Netherlands
END:VEVENT
END:VCALENDAR