BEGIN:VCALENDAR
VERSION:2.0
PRODID:-//Berghem.nl - ECPv6.15.20//NONSGML v1.0//EN
CALSCALE:GREGORIAN
METHOD:PUBLISH
X-WR-CALNAME:Berghem.nl
X-ORIGINAL-URL:https://www.berghem.nl
X-WR-CALDESC:Evenementen voor Berghem.nl
REFRESH-INTERVAL;VALUE=DURATION:PT1H
X-Robots-Tag:noindex
X-PUBLISHED-TTL:PT1H
BEGIN:VTIMEZONE
TZID:Europe/Amsterdam
BEGIN:DAYLIGHT
TZOFFSETFROM:+0100
TZOFFSETTO:+0200
TZNAME:CEST
DTSTART:20250330T010000
END:DAYLIGHT
BEGIN:STANDARD
TZOFFSETFROM:+0200
TZOFFSETTO:+0100
TZNAME:CET
DTSTART:20251026T010000
END:STANDARD
BEGIN:DAYLIGHT
TZOFFSETFROM:+0100
TZOFFSETTO:+0200
TZNAME:CEST
DTSTART:20260329T010000
END:DAYLIGHT
BEGIN:STANDARD
TZOFFSETFROM:+0200
TZOFFSETTO:+0100
TZNAME:CET
DTSTART:20261025T010000
END:STANDARD
BEGIN:DAYLIGHT
TZOFFSETFROM:+0100
TZOFFSETTO:+0200
TZNAME:CEST
DTSTART:20270328T010000
END:DAYLIGHT
BEGIN:STANDARD
TZOFFSETFROM:+0200
TZOFFSETTO:+0100
TZNAME:CET
DTSTART:20271031T010000
END:STANDARD
END:VTIMEZONE
BEGIN:VEVENT
DTSTART;TZID=Europe/Amsterdam:20260509T100000
DTEND;TZID=Europe/Amsterdam:20260509T123000
DTSTAMP:20260421T143501
CREATED:20260414T165034Z
LAST-MODIFIED:20260414T165034Z
UID:51363-1778320800-1778329800@www.berghem.nl
SUMMARY:Plantjesruildag
DESCRIPTION:Kom jij ook naar de Plantjesruildag?\nNa het succes van vorig jaar organiseert  Velt ’t Woatslerhufke op zaterdag 9 mei 2026  opnieuw een gezellige en duurzame Plantjesruildag op de Kerkplein in Berghem! \n\nVan 10.00 tot 12.30 uur kun je hier je overtollige planten\, stekken\, bollen\, knollen of kamerplanten ruilen met andere plantenliefhebbers.\nBreng je planten mee!\nHeb je planten over die je wilt delen? Neem ze gerust mee. Zorg eventueel voor een labeltje met de naam\,  bijzonderheden (zoals verzorgingstips of bloeitijd). Zo weet iedereen precies wat ze ruilen! \nAlle soorten welkom:\nOf het nu gaat om vaste planten\, eenjarigen\, struiken\, zaailingen\, stekken\, bollen\, knollen of kamerplanten – alles mag!\nEn mocht je niets hebben\, een ander heeft vast iets voor je over! \nBij voorbaat dank \nnamens Velt ’t Woatslerhufke\nTys Broekhaus
URL:https://www.berghem.nl/index.php/events/plantjesruildag/
LOCATION:Kerkplein
END:VEVENT
END:VCALENDAR