BEGIN:VCALENDAR
VERSION:2.0
PRODID:-//Berghem.nl - ECPv6.15.20//NONSGML v1.0//EN
CALSCALE:GREGORIAN
METHOD:PUBLISH
X-ORIGINAL-URL:https://www.berghem.nl
X-WR-CALDESC:Evenementen voor Berghem.nl
REFRESH-INTERVAL;VALUE=DURATION:PT1H
X-Robots-Tag:noindex
X-PUBLISHED-TTL:PT1H
BEGIN:VTIMEZONE
TZID:Europe/Amsterdam
BEGIN:DAYLIGHT
TZOFFSETFROM:+0100
TZOFFSETTO:+0200
TZNAME:CEST
DTSTART:20250330T010000
END:DAYLIGHT
BEGIN:STANDARD
TZOFFSETFROM:+0200
TZOFFSETTO:+0100
TZNAME:CET
DTSTART:20251026T010000
END:STANDARD
BEGIN:DAYLIGHT
TZOFFSETFROM:+0100
TZOFFSETTO:+0200
TZNAME:CEST
DTSTART:20260329T010000
END:DAYLIGHT
BEGIN:STANDARD
TZOFFSETFROM:+0200
TZOFFSETTO:+0100
TZNAME:CET
DTSTART:20261025T010000
END:STANDARD
BEGIN:DAYLIGHT
TZOFFSETFROM:+0100
TZOFFSETTO:+0200
TZNAME:CEST
DTSTART:20270328T010000
END:DAYLIGHT
BEGIN:STANDARD
TZOFFSETFROM:+0200
TZOFFSETTO:+0100
TZNAME:CET
DTSTART:20271031T010000
END:STANDARD
END:VTIMEZONE
BEGIN:VEVENT
DTSTART;TZID=Europe/Amsterdam:20260504T193000
DTEND;TZID=Europe/Amsterdam:20260504T193000
DTSTAMP:20260423T102235
CREATED:20260414T154214Z
LAST-MODIFIED:20260414T154214Z
UID:51358-1777923000-1777923000@www.berghem.nl
SUMMARY:Dodenherdenking
DESCRIPTION:Berghem\nOm 19.30 uur start de stille tocht vanaf de Berchplaets. Vanaf 19.40 uur begint de bijeenkomst bij het monument op de hoek Wilhelminasingel – vd Heuvelstraat\, met speeches en kranslegging. Wethouder Dolf Warris is bij de herdenking aanwezig.
URL:https://www.berghem.nl/index.php/events/dodenherdenking/
LOCATION:Berchplaets\, Sportstraat 3\, Berghem\, Netherlands
END:VEVENT
BEGIN:VEVENT
DTSTART;TZID=Europe/Amsterdam:20260504T230000
DTEND;TZID=Europe/Amsterdam:20260505T110000
DTSTAMP:20260423T102235
CREATED:20251122T103354Z
LAST-MODIFIED:20251122T103354Z
UID:49209-1777935600-1777978800@www.berghem.nl
SUMMARY:Bevrijdingsloop Wageningen-Berghem 2026
DESCRIPTION:
URL:https://www.berghem.nl/index.php/events/bevrijdingsloop-wageningen-berghem-2026/
END:VEVENT
END:VCALENDAR